BEGIN:VCALENDAR
VERSION:2.0
PRODID:-//Entiset Nuoret - ECPv6.15.20//NONSGML v1.0//EN
CALSCALE:GREGORIAN
METHOD:PUBLISH
X-WR-CALNAME:Entiset Nuoret
X-ORIGINAL-URL:https://www.entisetnuoret.fi
X-WR-CALDESC:Tapahtumat Entiset Nuoret
REFRESH-INTERVAL;VALUE=DURATION:PT1H
X-Robots-Tag:noindex
X-PUBLISHED-TTL:PT1H
BEGIN:VTIMEZONE
TZID:Europe/Moscow
BEGIN:STANDARD
TZOFFSETFROM:+0300
TZOFFSETTO:+0300
TZNAME:MSK
DTSTART:20230101T000000
END:STANDARD
END:VTIMEZONE
BEGIN:VEVENT
DTSTART;TZID=Europe/Moscow:20240902T140000
DTEND;TZID=Europe/Moscow:20240902T140000
DTSTAMP:20260420T195955
CREATED:20240827T133751Z
LAST-MODIFIED:20240827T133751Z
UID:8216-1725285600-1725285600@www.entisetnuoret.fi
SUMMARY:EN Kuntoile - Tule Nautiluksen esittelyyn ma 2.9 klo 14
DESCRIPTION:Onko tämä se syksy\, kun tunnet vetoa kuntoilun pariin? Vastaa kutsuun rohkeasti ja lähde kokeilemaan kuntosalitreenejä ja ryhmäliikuntoja muiden entisten nuorten seurassa. Kuntoilijoiden kotisaliksi on vakiintunut Nautilus Gym Pyynikin uimahallin rakennuksessa. \nTule kuntosalin esittelyyn maanantaina 2.9. 2024 klo 14. Näet ja kuulet\, mitä kuntosali tarjoaa. Esittely ei sido sinua osallistumaan. Astu sisään Pyynikin uimahallin ovesta. Tapaat meitä entisiä nuoria kahviossa (Kortelahdenkatu 26\, 33230 Tampere). \nMITÄ MAKSAA?\nVasta-alkajilla on mahdollisuus kokeilla kuntosalin jäsenyyttä joulukuun loppuun\, mikäli et halua sitoutua koko vuodeksi. Jokainen tekee sopimuksensa ja maksaa jäsenyytensä itse. Jos olet 65+\, hinta on nyt aloittaville 47 e/kk. \nMITÄ SISÄLTÄÄ?\nNautiluksen jäsenenä voit käyttää kuntosalia\, kuntosalin saunaa ja uimahallia rajattomasti sen aukioloaikoina sekä osallistua ohjaajien vetämään ryhmäliikuntaan. Tunnit sopivat myös iäkkäämmille (esimerkiksi lihaskuntojumppa\, venyttely\, kehonhuolto ja rentoutus\, jalka-flow\, kuntotanssi ja vesijumppa). Jokaiselle tehdään henkilökohtainen kuntosaliohjelma ja tarvittaessa järjestetään ryhmäneuvontaa. \nEN Kuntoile -ryhmässä neuvomme toisiamme\, jaamme tuoretta kuntoilutietoa ja treenivinkkejä. Ryhmäläisiä kuntoilee myös kaupungin ja järjestöjen liikuntaryhmissä.\nIlmoittaudu EN Kuntoile -ryhmään tai kysy lisää sen toiminnasta.
URL:https://www.entisetnuoret.fi/tapahtuma/en-kuntoile-tule-nautiluksen-esittelyyn-ma-2-9-klo-14/
LOCATION:Pyynikin uimahalli\, Kortelahdenkatu 26\, Tampere
CATEGORIES:Tapahtumakalenteri
END:VEVENT
END:VCALENDAR