BEGIN:VCALENDAR
VERSION:2.0
PRODID:-//Entiset Nuoret - ECPv6.15.20//NONSGML v1.0//EN
CALSCALE:GREGORIAN
METHOD:PUBLISH
X-WR-CALNAME:Entiset Nuoret
X-ORIGINAL-URL:https://www.entisetnuoret.fi
X-WR-CALDESC:Tapahtumat Entiset Nuoret
REFRESH-INTERVAL;VALUE=DURATION:PT1H
X-Robots-Tag:noindex
X-PUBLISHED-TTL:PT1H
BEGIN:VTIMEZONE
TZID:Europe/Moscow
BEGIN:STANDARD
TZOFFSETFROM:+0300
TZOFFSETTO:+0300
TZNAME:MSK
DTSTART:20230101T000000
END:STANDARD
END:VTIMEZONE
BEGIN:VEVENT
DTSTART;TZID=Europe/Moscow:20241227T100000
DTEND;TZID=Europe/Moscow:20241227T100000
DTSTAMP:20260421T001222
CREATED:20241221T110009Z
LAST-MODIFIED:20241221T110009Z
UID:9445-1735293600-1735293600@www.entisetnuoret.fi
SUMMARY:EN Kino - Thelma 27.12.
DESCRIPTION:Perjantaina 27.12. klo 10 Niagarassa elokuva Thelma.
URL:https://www.entisetnuoret.fi/tapahtuma/en-kino-thelma-27-12/
LOCATION:Niagara\, Kehräsaari B\, 33200 Tampere\, Tampere\, Suomi
CATEGORIES:Tapahtumakalenteri
END:VEVENT
END:VCALENDAR