BEGIN:VCALENDAR
VERSION:2.0
PRODID:-//Entiset Nuoret - ECPv6.15.20//NONSGML v1.0//EN
CALSCALE:GREGORIAN
METHOD:PUBLISH
X-WR-CALNAME:Entiset Nuoret
X-ORIGINAL-URL:https://www.entisetnuoret.fi
X-WR-CALDESC:Tapahtumat Entiset Nuoret
REFRESH-INTERVAL;VALUE=DURATION:PT1H
X-Robots-Tag:noindex
X-PUBLISHED-TTL:PT1H
BEGIN:VTIMEZONE
TZID:Europe/Helsinki
BEGIN:DAYLIGHT
TZOFFSETFROM:+0200
TZOFFSETTO:+0300
TZNAME:EEST
DTSTART:20240331T010000
END:DAYLIGHT
BEGIN:STANDARD
TZOFFSETFROM:+0300
TZOFFSETTO:+0200
TZNAME:EET
DTSTART:20241027T010000
END:STANDARD
BEGIN:DAYLIGHT
TZOFFSETFROM:+0200
TZOFFSETTO:+0300
TZNAME:EEST
DTSTART:20250330T010000
END:DAYLIGHT
BEGIN:STANDARD
TZOFFSETFROM:+0300
TZOFFSETTO:+0200
TZNAME:EET
DTSTART:20251026T010000
END:STANDARD
BEGIN:DAYLIGHT
TZOFFSETFROM:+0200
TZOFFSETTO:+0300
TZNAME:EEST
DTSTART:20260329T010000
END:DAYLIGHT
BEGIN:STANDARD
TZOFFSETFROM:+0300
TZOFFSETTO:+0200
TZNAME:EET
DTSTART:20261025T010000
END:STANDARD
END:VTIMEZONE
BEGIN:VEVENT
DTSTART;TZID=Europe/Helsinki:20250331T140000
DTEND;TZID=Europe/Helsinki:20250331T140000
DTSTAMP:20260420T111455
CREATED:20250328T155237Z
LAST-MODIFIED:20250328T155237Z
UID:10136-1743429600-1743429600@www.entisetnuoret.fi
SUMMARY:EN - Rollaattorimarssin ideointia Telakalla 31.3.!
DESCRIPTION:Kokoonnumme ma 31.3. klo 14 Telakan alakertaan ideoimaan Entisten Nuorten plakaattitekstejä\, huutoja ja kaikkea mahdollista Rollaattorimarssille. \nRollaattorimarssi (nimi saattaa muuttua) tapahtuu 9.5. klo 14 alkaen Koskipuiston/Keskustorin alueella. Järjestäjien mukaan “kulkue on tarkoitus toteuttaa karnevaalihengessä” ja perusviesti liittyy ikääntyneiden hyvinvointiin ja hyvän elämän edellytyksiin. Tapahtuman mainos tulee jakoon ensi viikolla ja siinä on lisätietoa mm. järjestäjätahoista. \nTule maanantaina Telakalle\, laitetaan ideamylly hommiin!\nKutsujina Iita ja Oili
URL:https://www.entisetnuoret.fi/tapahtuma/en-rollaattorimarssin-ideointia-telakalla-31-3/
LOCATION:Ravintola Telakka\, Tullikamarin aukio 3\, 33100 Tampere\, Suomi
CATEGORIES:Tapahtumakalenteri
END:VEVENT
END:VCALENDAR