BEGIN:VCALENDAR
VERSION:2.0
PRODID:-//Entiset Nuoret - ECPv6.15.20//NONSGML v1.0//EN
CALSCALE:GREGORIAN
METHOD:PUBLISH
X-WR-CALNAME:Entiset Nuoret
X-ORIGINAL-URL:https://www.entisetnuoret.fi
X-WR-CALDESC:Tapahtumat Entiset Nuoret
REFRESH-INTERVAL;VALUE=DURATION:PT1H
X-Robots-Tag:noindex
X-PUBLISHED-TTL:PT1H
BEGIN:VTIMEZONE
TZID:Europe/Moscow
BEGIN:STANDARD
TZOFFSETFROM:+0300
TZOFFSETTO:+0300
TZNAME:MSK
DTSTART:20230101T000000
END:STANDARD
END:VTIMEZONE
BEGIN:VEVENT
DTSTART;TZID=Europe/Moscow:20241031T151500
DTEND;TZID=Europe/Moscow:20241031T151500
DTSTAMP:20260420T032605
CREATED:20241028T125852Z
LAST-MODIFIED:20241028T125852Z
UID:8780-1730387700-1730387700@www.entisetnuoret.fi
SUMMARY:EN Kino - Perhoset 31.10.
DESCRIPTION:Jos vielä on näkemättä kotimainen Jenni Toivoniemen ohjaama ja Anna Brotkinin käsikirjoittama elokuva Perhoset\, niin torstaina 31.10. menemme sen katsomaan. Se on Niagarassa filmin viimeinen näytös. Se alkaa klo 15:15.\nTervetuloa mukaan!
URL:https://www.entisetnuoret.fi/tapahtuma/en-kino-perhoset-31-10/
LOCATION:Niagara\, Kehräsaari B\, 33200 Tampere\, Tampere\, Suomi
CATEGORIES:Tapahtumakalenteri
END:VEVENT
END:VCALENDAR