BEGIN:VCALENDAR
VERSION:2.0
PRODID:-//Entiset Nuoret - ECPv6.15.20//NONSGML v1.0//EN
CALSCALE:GREGORIAN
METHOD:PUBLISH
X-WR-CALNAME:Entiset Nuoret
X-ORIGINAL-URL:https://www.entisetnuoret.fi
X-WR-CALDESC:Tapahtumat Entiset Nuoret
REFRESH-INTERVAL;VALUE=DURATION:PT1H
X-Robots-Tag:noindex
X-PUBLISHED-TTL:PT1H
BEGIN:VTIMEZONE
TZID:Europe/Helsinki
BEGIN:DAYLIGHT
TZOFFSETFROM:+0200
TZOFFSETTO:+0300
TZNAME:EEST
DTSTART:20220327T010000
END:DAYLIGHT
BEGIN:STANDARD
TZOFFSETFROM:+0300
TZOFFSETTO:+0200
TZNAME:EET
DTSTART:20221030T010000
END:STANDARD
BEGIN:DAYLIGHT
TZOFFSETFROM:+0200
TZOFFSETTO:+0300
TZNAME:EEST
DTSTART:20230326T010000
END:DAYLIGHT
BEGIN:STANDARD
TZOFFSETFROM:+0300
TZOFFSETTO:+0200
TZNAME:EET
DTSTART:20231029T010000
END:STANDARD
BEGIN:DAYLIGHT
TZOFFSETFROM:+0200
TZOFFSETTO:+0300
TZNAME:EEST
DTSTART:20240331T010000
END:DAYLIGHT
BEGIN:STANDARD
TZOFFSETFROM:+0300
TZOFFSETTO:+0200
TZNAME:EET
DTSTART:20241027T010000
END:STANDARD
END:VTIMEZONE
BEGIN:VEVENT
DTSTART;TZID=Europe/Helsinki:20230425T163000
DTEND;TZID=Europe/Helsinki:20230425T190000
DTSTAMP:20260422T080118
CREATED:20230414T063404Z
LAST-MODIFIED:20230415T075758Z
UID:4461-1682440200-1682449200@www.entisetnuoret.fi
SUMMARY:Eläkkeelle-tapahtuma 25.4.
DESCRIPTION:Tampereen kaupungin organisoima Eläkkeelle-tapahtuma järjestetään Sampolassa tiistaina 25.4.2023 klo 16.30–19.00. Esittelypisteemme sijaitsee aulatiloissa. Poikkea! \nKuva messuemännistä ja -isännistä
URL:https://www.entisetnuoret.fi/tapahtuma/elakkeelle-tapahtuma/
LOCATION:Sampola\, Sammonkatu 2\, Tampere
CATEGORIES:Tapahtumakalenteri
END:VEVENT
END:VCALENDAR