BEGIN:VCALENDAR
VERSION:2.0
PRODID:-//Entiset Nuoret - ECPv6.15.20//NONSGML v1.0//EN
CALSCALE:GREGORIAN
METHOD:PUBLISH
X-ORIGINAL-URL:https://www.entisetnuoret.fi
X-WR-CALDESC:Tapahtumat Entiset Nuoret
REFRESH-INTERVAL;VALUE=DURATION:PT1H
X-Robots-Tag:noindex
X-PUBLISHED-TTL:PT1H
BEGIN:VTIMEZONE
TZID:Europe/Moscow
BEGIN:STANDARD
TZOFFSETFROM:+0300
TZOFFSETTO:+0300
TZNAME:MSK
DTSTART:20240101T000000
END:STANDARD
END:VTIMEZONE
BEGIN:VEVENT
DTSTART;TZID=Europe/Moscow:20250315T130000
DTEND;TZID=Europe/Moscow:20250315T130000
DTSTAMP:20260421T003032
CREATED:20241105T162354Z
LAST-MODIFIED:20241105T162354Z
UID:8867-1742043600-1742043600@www.entisetnuoret.fi
SUMMARY:EN Kulttuuriretki - Sinun\, Margot 15.3.
DESCRIPTION:15.3.2025\, Helsingin kaupunginteatteri Sinun\, Margot.
URL:https://www.entisetnuoret.fi/tapahtuma/en-kulttuuriretki-sinun-margot-15-3/
CATEGORIES:Tapahtumakalenteri
END:VEVENT
END:VCALENDAR