BEGIN:VCALENDAR
VERSION:2.0
PRODID:-//Entiset Nuoret - ECPv6.15.20//NONSGML v1.0//EN
CALSCALE:GREGORIAN
METHOD:PUBLISH
X-WR-CALNAME:Entiset Nuoret
X-ORIGINAL-URL:https://www.entisetnuoret.fi
X-WR-CALDESC:Tapahtumat Entiset Nuoret
REFRESH-INTERVAL;VALUE=DURATION:PT1H
X-Robots-Tag:noindex
X-PUBLISHED-TTL:PT1H
BEGIN:VTIMEZONE
TZID:Europe/Moscow
BEGIN:STANDARD
TZOFFSETFROM:+0300
TZOFFSETTO:+0300
TZNAME:MSK
DTSTART:20240101T000000
END:STANDARD
END:VTIMEZONE
BEGIN:VEVENT
DTSTART;TZID=Europe/Moscow:20250322T100000
DTEND;TZID=Europe/Moscow:20250322T100000
DTSTAMP:20260422T080902
CREATED:20250109T170546Z
LAST-MODIFIED:20250316T162035Z
UID:9535-1742637600-1742637600@www.entisetnuoret.fi
SUMMARY:EN Retki - Maastokävely Tapatoran suuntaan ja takaisin la 22.3.
DESCRIPTION:Maastokävely Näsijärven rantaviertä Tapatoran suuntaan lauantaina 22.3.2025. Reitti paikoin juurakkoinen ja kivinen\, kenties myös jäinen. Kävelysauvat ja nastakengät voivat helpottaa menoa. Tauko nuotiopaikalla. Paluu jäätä pitkin (sään salliessa). Matkan kokonaispituus n. 7 km. Lähtö UKK-instituutin parkkipaikalta klo 10. Tervetuloa!
URL:https://www.entisetnuoret.fi/tapahtuma/en-retki-maastokavely-tapatoran-suuntaan-ja-takaisin-la-22-3/
CATEGORIES:Tapahtumakalenteri
END:VEVENT
END:VCALENDAR