BEGIN:VCALENDAR
VERSION:2.0
PRODID:-//Entiset Nuoret - ECPv6.15.20//NONSGML v1.0//EN
CALSCALE:GREGORIAN
METHOD:PUBLISH
X-WR-CALNAME:Entiset Nuoret
X-ORIGINAL-URL:https://www.entisetnuoret.fi
X-WR-CALDESC:Tapahtumat Entiset Nuoret
REFRESH-INTERVAL;VALUE=DURATION:PT1H
X-Robots-Tag:noindex
X-PUBLISHED-TTL:PT1H
BEGIN:VTIMEZONE
TZID:Europe/Helsinki
BEGIN:DAYLIGHT
TZOFFSETFROM:+0200
TZOFFSETTO:+0300
TZNAME:EEST
DTSTART:20240331T010000
END:DAYLIGHT
BEGIN:STANDARD
TZOFFSETFROM:+0300
TZOFFSETTO:+0200
TZNAME:EET
DTSTART:20241027T010000
END:STANDARD
BEGIN:DAYLIGHT
TZOFFSETFROM:+0200
TZOFFSETTO:+0300
TZNAME:EEST
DTSTART:20250330T010000
END:DAYLIGHT
BEGIN:STANDARD
TZOFFSETFROM:+0300
TZOFFSETTO:+0200
TZNAME:EET
DTSTART:20251026T010000
END:STANDARD
BEGIN:DAYLIGHT
TZOFFSETFROM:+0200
TZOFFSETTO:+0300
TZNAME:EEST
DTSTART:20260329T010000
END:DAYLIGHT
BEGIN:STANDARD
TZOFFSETFROM:+0300
TZOFFSETTO:+0200
TZNAME:EET
DTSTART:20261025T010000
END:STANDARD
END:VTIMEZONE
BEGIN:VEVENT
DTSTART;TZID=Europe/Helsinki:20251006T130000
DTEND;TZID=Europe/Helsinki:20251006T130000
DTSTAMP:20260420T055936
CREATED:20251001T034842Z
LAST-MODIFIED:20251001T034842Z
UID:11128-1759755600-1759755600@www.entisetnuoret.fi
SUMMARY:EN - Lokakuun lounas 6.10.
DESCRIPTION:Tervetuloa Entisten Nuorten lokakuun lounaalle Telakalle maanantaina 6.10.2025 klo 13! Lounasalennus 10 % eläkeläiskortilla!
URL:https://www.entisetnuoret.fi/tapahtuma/en-lokakuun-lounas-6-10/
LOCATION:Ravintola Telakka\, Tullikamarin aukio 3\, 33100 Tampere\, Suomi
CATEGORIES:Tapahtumakalenteri
END:VEVENT
END:VCALENDAR