BEGIN:VCALENDAR
VERSION:2.0
PRODID:-//Entiset Nuoret - ECPv6.15.20//NONSGML v1.0//EN
CALSCALE:GREGORIAN
METHOD:PUBLISH
X-ORIGINAL-URL:https://www.entisetnuoret.fi
X-WR-CALDESC:Tapahtumat Entiset Nuoret
REFRESH-INTERVAL;VALUE=DURATION:PT1H
X-Robots-Tag:noindex
X-PUBLISHED-TTL:PT1H
BEGIN:VTIMEZONE
TZID:Europe/Helsinki
BEGIN:DAYLIGHT
TZOFFSETFROM:+0200
TZOFFSETTO:+0300
TZNAME:EEST
DTSTART:20230326T010000
END:DAYLIGHT
BEGIN:STANDARD
TZOFFSETFROM:+0300
TZOFFSETTO:+0200
TZNAME:EET
DTSTART:20231029T010000
END:STANDARD
BEGIN:DAYLIGHT
TZOFFSETFROM:+0200
TZOFFSETTO:+0300
TZNAME:EEST
DTSTART:20240331T010000
END:DAYLIGHT
BEGIN:STANDARD
TZOFFSETFROM:+0300
TZOFFSETTO:+0200
TZNAME:EET
DTSTART:20241027T010000
END:STANDARD
BEGIN:DAYLIGHT
TZOFFSETFROM:+0200
TZOFFSETTO:+0300
TZNAME:EEST
DTSTART:20250330T010000
END:DAYLIGHT
BEGIN:STANDARD
TZOFFSETFROM:+0300
TZOFFSETTO:+0200
TZNAME:EET
DTSTART:20251026T010000
END:STANDARD
END:VTIMEZONE
BEGIN:VEVENT
DTSTART;TZID=Europe/Helsinki:20240504T100000
DTEND;TZID=Europe/Helsinki:20240504T100000
DTSTAMP:20260420T115734
CREATED:20240428T064745Z
LAST-MODIFIED:20240502T074658Z
UID:6644-1714816800-1714816800@www.entisetnuoret.fi
SUMMARY:EN Retki - Kintulammi 4.5.
DESCRIPTION:Entisten nuorten retkiryhmä lähtee Kintulammille 4.5. Lähtö Kalevan ABC:ltä klo 10\, tai muusta sovitusta paikasta. Tapaamme Kintulammin pysäköintialue kakkosella noin klo 10.30. Pysäköintialue kaksi on ensimmäinen pysäköintialue Tampereen suunnasta Pulesjärventietä tultaessa. Kierrämme Kaulamoisten kautta Kaukaloisten kallion tulistelupaikalle\, josta paluu hieman etelämpää reittiä kohti Kintulammia. Matkaa kertyy noin 7 kilometriä.Todennäköisesti maa on märkää\, joten jalkineet sen mukaan. \nTervetuloa kevään ensimmäiselle retkelle! Kyytejä voi kysellä wa-ryhmässä.
URL:https://www.entisetnuoret.fi/tapahtuma/en-retki-kintulammi-4-5/
LOCATION:Kintulammi
CATEGORIES:Tapahtumakalenteri
END:VEVENT
END:VCALENDAR