BEGIN:VCALENDAR
VERSION:2.0
PRODID:-//Entiset Nuoret - ECPv6.15.20//NONSGML v1.0//EN
CALSCALE:GREGORIAN
METHOD:PUBLISH
X-ORIGINAL-URL:https://www.entisetnuoret.fi
X-WR-CALDESC:Tapahtumat Entiset Nuoret
REFRESH-INTERVAL;VALUE=DURATION:PT1H
X-Robots-Tag:noindex
X-PUBLISHED-TTL:PT1H
BEGIN:VTIMEZONE
TZID:Europe/Moscow
BEGIN:STANDARD
TZOFFSETFROM:+0300
TZOFFSETTO:+0300
TZNAME:MSK
DTSTART:20240101T000000
END:STANDARD
END:VTIMEZONE
BEGIN:VEVENT
DTSTART;TZID=Europe/Moscow:20250205T113000
DTEND;TZID=Europe/Moscow:20250205T113000
DTSTAMP:20260420T221723
CREATED:20250131T114752Z
LAST-MODIFIED:20250131T114752Z
UID:9776-1738755000-1738755000@www.entisetnuoret.fi
SUMMARY:EN Kino - Kesäkirja
DESCRIPTION:Seuraava elokuvamme on Charlie McDowellin ohjaama ja Robert Jonesin käsikirjoittama Kesäkirja\, joka ei ole sama kuin Tove Janssonin kirjoittama kirja. Se vain perustuu löyhästi ko. kirjaan. Käsikirjoittajat ja ohjaajat\, kun ottavat vapautensa. 😉 \nKeskiviikona 5.2. klo 11.30 Niagarassa.\nTervetuloa!
URL:https://www.entisetnuoret.fi/tapahtuma/en-kino-kesakirja/
LOCATION:Niagara\, Kehräsaari B\, 33200 Tampere\, Tampere\, Suomi
CATEGORIES:Tapahtumakalenteri
END:VEVENT
END:VCALENDAR