BEGIN:VCALENDAR
VERSION:2.0
PRODID:-//Entiset Nuoret - ECPv6.15.20//NONSGML v1.0//EN
CALSCALE:GREGORIAN
METHOD:PUBLISH
X-WR-CALNAME:Entiset Nuoret
X-ORIGINAL-URL:https://www.entisetnuoret.fi
X-WR-CALDESC:Tapahtumat Entiset Nuoret
REFRESH-INTERVAL;VALUE=DURATION:PT1H
X-Robots-Tag:noindex
X-PUBLISHED-TTL:PT1H
BEGIN:VTIMEZONE
TZID:Europe/Helsinki
BEGIN:DAYLIGHT
TZOFFSETFROM:+0200
TZOFFSETTO:+0300
TZNAME:EEST
DTSTART:20230326T010000
END:DAYLIGHT
BEGIN:STANDARD
TZOFFSETFROM:+0300
TZOFFSETTO:+0200
TZNAME:EET
DTSTART:20231029T010000
END:STANDARD
BEGIN:DAYLIGHT
TZOFFSETFROM:+0200
TZOFFSETTO:+0300
TZNAME:EEST
DTSTART:20240331T010000
END:DAYLIGHT
BEGIN:STANDARD
TZOFFSETFROM:+0300
TZOFFSETTO:+0200
TZNAME:EET
DTSTART:20241027T010000
END:STANDARD
BEGIN:DAYLIGHT
TZOFFSETFROM:+0200
TZOFFSETTO:+0300
TZNAME:EEST
DTSTART:20250330T010000
END:DAYLIGHT
BEGIN:STANDARD
TZOFFSETFROM:+0300
TZOFFSETTO:+0200
TZNAME:EET
DTSTART:20251026T010000
END:STANDARD
END:VTIMEZONE
BEGIN:VEVENT
DTSTART;TZID=Europe/Helsinki:20240328T160000
DTEND;TZID=Europe/Helsinki:20240328T160000
DTSTAMP:20260425T135148
CREATED:20240325T152348Z
LAST-MODIFIED:20240325T152348Z
UID:6521-1711641600-1711641600@www.entisetnuoret.fi
SUMMARY:EN Kino - Havumetsän lapset / Sodan ja rauhan lapset
DESCRIPTION:Hei kaikki\, \nPäätimme Kari Nikanderin (toinen ryhmän ylläpitäjä) kanssa\, että ensi torstaina 28.3. on kaksi elokuvaa tarjolla:\n1) klo 16.00 Virpi Suutarin Havumetsän lapset. (Sai änestyksessä 7 ääntä\, mukana oma ääneni.) 🙂 \nsekä\n2) klo 18.00 Ville Suhosen Sodan ja rauhan lapset. (Sai äänestyksessä 6 ääntä\, mukana Karin ääni. ) 🙂 \nEli nyt on kaksi ryhmää samalle päivälle. Ja äänestys siis päättynyt. \nTapaamisiin Niagarassa!\nT. Satu
URL:https://www.entisetnuoret.fi/tapahtuma/en-kino-havumetsan-lapset-sodan-ja-rauhan-lapset/
LOCATION:Niagara\, Kehräsaari B\, 33200 Tampere\, Tampere\, Suomi
CATEGORIES:Tapahtumakalenteri
END:VEVENT
END:VCALENDAR