BEGIN:VCALENDAR
VERSION:2.0
PRODID:-//Entiset Nuoret - ECPv6.15.20//NONSGML v1.0//EN
CALSCALE:GREGORIAN
METHOD:PUBLISH
X-ORIGINAL-URL:https://www.entisetnuoret.fi
X-WR-CALDESC:Tapahtumat Entiset Nuoret
REFRESH-INTERVAL;VALUE=DURATION:PT1H
X-Robots-Tag:noindex
X-PUBLISHED-TTL:PT1H
BEGIN:VTIMEZONE
TZID:Europe/Helsinki
BEGIN:DAYLIGHT
TZOFFSETFROM:+0200
TZOFFSETTO:+0300
TZNAME:EEST
DTSTART:20240331T010000
END:DAYLIGHT
BEGIN:STANDARD
TZOFFSETFROM:+0300
TZOFFSETTO:+0200
TZNAME:EET
DTSTART:20241027T010000
END:STANDARD
BEGIN:DAYLIGHT
TZOFFSETFROM:+0200
TZOFFSETTO:+0300
TZNAME:EEST
DTSTART:20250330T010000
END:DAYLIGHT
BEGIN:STANDARD
TZOFFSETFROM:+0300
TZOFFSETTO:+0200
TZNAME:EET
DTSTART:20251026T010000
END:STANDARD
BEGIN:DAYLIGHT
TZOFFSETFROM:+0200
TZOFFSETTO:+0300
TZNAME:EEST
DTSTART:20260329T010000
END:DAYLIGHT
BEGIN:STANDARD
TZOFFSETFROM:+0300
TZOFFSETTO:+0200
TZNAME:EET
DTSTART:20261025T010000
END:STANDARD
END:VTIMEZONE
BEGIN:VEVENT
DTSTART;TZID=Europe/Helsinki:20250320T114500
DTEND;TZID=Europe/Helsinki:20250320T114500
DTSTAMP:20260422T134211
CREATED:20250312T111646Z
LAST-MODIFIED:20250312T111646Z
UID:10079-1742471100-1742471100@www.entisetnuoret.fi
SUMMARY:EN Kino - Fanfaari elämälle
DESCRIPTION:Ehdotan seuraavaksi elokuvaksi ranskalaisohjaaja Emmanuel Courcolin (*1957) Fanfaari elämälle (1h 45min) \nTorstaina 20.3. klo 11:45 Niagarassa. \nElokuva on kuulemma lämminhenkinen komedia veljeydestä ja musiikin voimasta. \nTervetuloa mukaan!
URL:https://www.entisetnuoret.fi/tapahtuma/en-kino-fanfaari-elamalle/
LOCATION:Niagara\, Kehräsaari B\, 33200 Tampere\, Tampere\, Suomi
CATEGORIES:Tapahtumakalenteri
END:VEVENT
END:VCALENDAR