BEGIN:VCALENDAR
VERSION:2.0
PRODID:-//Entiset Nuoret - ECPv6.15.20//NONSGML v1.0//EN
CALSCALE:GREGORIAN
METHOD:PUBLISH
X-ORIGINAL-URL:https://www.entisetnuoret.fi
X-WR-CALDESC:Tapahtumat Entiset Nuoret
REFRESH-INTERVAL;VALUE=DURATION:PT1H
X-Robots-Tag:noindex
X-PUBLISHED-TTL:PT1H
BEGIN:VTIMEZONE
TZID:Europe/Helsinki
BEGIN:DAYLIGHT
TZOFFSETFROM:+0200
TZOFFSETTO:+0300
TZNAME:EEST
DTSTART:20220327T010000
END:DAYLIGHT
BEGIN:STANDARD
TZOFFSETFROM:+0300
TZOFFSETTO:+0200
TZNAME:EET
DTSTART:20221030T010000
END:STANDARD
BEGIN:DAYLIGHT
TZOFFSETFROM:+0200
TZOFFSETTO:+0300
TZNAME:EEST
DTSTART:20230326T010000
END:DAYLIGHT
BEGIN:STANDARD
TZOFFSETFROM:+0300
TZOFFSETTO:+0200
TZNAME:EET
DTSTART:20231029T010000
END:STANDARD
BEGIN:DAYLIGHT
TZOFFSETFROM:+0200
TZOFFSETTO:+0300
TZNAME:EEST
DTSTART:20240331T010000
END:DAYLIGHT
BEGIN:STANDARD
TZOFFSETFROM:+0300
TZOFFSETTO:+0200
TZNAME:EET
DTSTART:20241027T010000
END:STANDARD
END:VTIMEZONE
BEGIN:VEVENT
DTSTART;TZID=Europe/Helsinki:20230720T110000
DTEND;TZID=Europe/Helsinki:20230720T110000
DTSTAMP:20260425T155451
CREATED:20230527T123954Z
LAST-MODIFIED:20230717T072632Z
UID:4843-1689850800-1689850800@www.entisetnuoret.fi
SUMMARY:EN Retki Ellivuori - erämaa-ateljee Kivilinna 20.7.
DESCRIPTION:Entiset Nuoret järjestää retken Ellivuoren luontoreiteille Sastamalaan torstaina 20.7. Reittivalinta tehdään paikan päällä\, Ellivuorentie 131\, 38130 Sastamala. Tutumiskohteena taidemaalari Emil Danielssonin Pirunvuoren kivistä vuonna 1906 rakennuttama erämaa-ateljee. Lähtö Kalevan ABC:ltä klo 11. Kyydeistä sovitaan EN Retken whatsapp-ryhmässä..
URL:https://www.entisetnuoret.fi/tapahtuma/en-retki-ellivuori-eramaa-ateljee-kivilinna-20-7/
LOCATION:Ellivuori – erämaa-ateljee\, Ellivuorentie 131\, 38130 Sastamala
CATEGORIES:Tapahtumakalenteri
END:VEVENT
END:VCALENDAR