BEGIN:VCALENDAR
VERSION:2.0
PRODID:-//Entiset Nuoret - ECPv6.15.20//NONSGML v1.0//EN
CALSCALE:GREGORIAN
METHOD:PUBLISH
X-WR-CALNAME:Entiset Nuoret
X-ORIGINAL-URL:https://www.entisetnuoret.fi
X-WR-CALDESC:Tapahtumat Entiset Nuoret
REFRESH-INTERVAL;VALUE=DURATION:PT1H
X-Robots-Tag:noindex
X-PUBLISHED-TTL:PT1H
BEGIN:VTIMEZONE
TZID:Europe/Moscow
BEGIN:STANDARD
TZOFFSETFROM:+0300
TZOFFSETTO:+0300
TZNAME:MSK
DTSTART:20240101T000000
END:STANDARD
END:VTIMEZONE
BEGIN:VEVENT
DTSTART;TZID=Europe/Moscow:20250409T170000
DTEND;TZID=Europe/Moscow:20250409T170000
DTSTAMP:20260425T173743
CREATED:20250225T162608Z
LAST-MODIFIED:20250225T163047Z
UID:9973-1744218000-1744218000@www.entisetnuoret.fi
SUMMARY:EN Keskustelu - 9.4.
DESCRIPTION:Huhtikuun tapaaminen on ke 9.4. klo 17. Aihe vielä auki. Ilmoitetaan myöhemmin.\nPaikka ravintola Ukkometson Koppelo-kabinetti.
URL:https://www.entisetnuoret.fi/tapahtuma/en-keskustelu-9-4/
LOCATION:Ravintola Ukkometson Koppelo-kabinetti\, Kauppakatu 16\, Tampere\, Suomi
CATEGORIES:Tapahtumakalenteri
END:VEVENT
END:VCALENDAR