BEGIN:VCALENDAR
VERSION:2.0
PRODID:-//Entiset Nuoret - ECPv6.15.20//NONSGML v1.0//EN
CALSCALE:GREGORIAN
METHOD:PUBLISH
X-WR-CALNAME:Entiset Nuoret
X-ORIGINAL-URL:https://www.entisetnuoret.fi
X-WR-CALDESC:Tapahtumat Entiset Nuoret
REFRESH-INTERVAL;VALUE=DURATION:PT1H
X-Robots-Tag:noindex
X-PUBLISHED-TTL:PT1H
BEGIN:VTIMEZONE
TZID:Europe/Moscow
BEGIN:STANDARD
TZOFFSETFROM:+0300
TZOFFSETTO:+0300
TZNAME:MSK
DTSTART:20240101T000000
END:STANDARD
END:VTIMEZONE
BEGIN:VEVENT
DTSTART;TZID=Europe/Moscow:20250115T151500
DTEND;TZID=Europe/Moscow:20250115T151500
DTSTAMP:20260421T124547
CREATED:20250107T181909Z
LAST-MODIFIED:20250107T181909Z
UID:9525-1736954100-1736954100@www.entisetnuoret.fi
SUMMARY:EN Kino - Emilia Pérez
DESCRIPTION:Hei kaikki!\nEnsi viikon elokuvaksi valittiin uutuusfilmi Emilia Pérez. \nKeskiviikkona 15.1. klo 15:15 Niagara. \nElokuvan kesto on 2 h 15 min. HUOM! Jälkipuintia varten olen varannut nimelläni sen alakerran ison pyöreän pöydän ravintola HOOKISTA Niagaraa vastapäätä klo 17.30 alkaen. \nTerv. Satu Valkama
URL:https://www.entisetnuoret.fi/tapahtuma/en-kino-emilia-perez/
LOCATION:Niagara\, Kehräsaari B\, 33200 Tampere\, Tampere\, Suomi
CATEGORIES:Tapahtumakalenteri
END:VEVENT
END:VCALENDAR