BEGIN:VCALENDAR
VERSION:2.0
PRODID:-//Entiset Nuoret - ECPv6.15.20//NONSGML v1.0//EN
CALSCALE:GREGORIAN
METHOD:PUBLISH
X-ORIGINAL-URL:https://www.entisetnuoret.fi
X-WR-CALDESC:Tapahtumat Entiset Nuoret
REFRESH-INTERVAL;VALUE=DURATION:PT1H
X-Robots-Tag:noindex
X-PUBLISHED-TTL:PT1H
BEGIN:VTIMEZONE
TZID:Europe/Moscow
BEGIN:STANDARD
TZOFFSETFROM:+0300
TZOFFSETTO:+0300
TZNAME:MSK
DTSTART:20230101T000000
END:STANDARD
END:VTIMEZONE
BEGIN:VEVENT
DTSTART;TZID=Europe/Moscow:20240717T163000
DTEND;TZID=Europe/Moscow:20240717T163000
DTSTAMP:20260423T113858
CREATED:20240710T125005Z
LAST-MODIFIED:20240710T125005Z
UID:7937-1721233800-1721233800@www.entisetnuoret.fi
SUMMARY:EN Kino - Elämäni ensimmäinen päivä 17.7.
DESCRIPTION:Olisiko aika elokuvan?\nEhdotan ryhmälle katsottavaksi italialaisen Paolo Genovesen uutuuden Elämäni ensimmäinen päivä (Il primo giorno della mia vita) . \nKeskiviikko 17.7. klo 16.30 Niagarassa.
URL:https://www.entisetnuoret.fi/tapahtuma/en-kino-elamani-ensimmainen-paiva-17-7/
LOCATION:Niagara\, Kehräsaari B\, 33200 Tampere\, Tampere\, Suomi
CATEGORIES:Tapahtumakalenteri
END:VEVENT
END:VCALENDAR