BEGIN:VCALENDAR
VERSION:2.0
PRODID:-//Entiset Nuoret - ECPv6.15.20//NONSGML v1.0//EN
CALSCALE:GREGORIAN
METHOD:PUBLISH
X-ORIGINAL-URL:https://www.entisetnuoret.fi
X-WR-CALDESC:Tapahtumat Entiset Nuoret
REFRESH-INTERVAL;VALUE=DURATION:PT1H
X-Robots-Tag:noindex
X-PUBLISHED-TTL:PT1H
BEGIN:VTIMEZONE
TZID:Europe/Helsinki
BEGIN:DAYLIGHT
TZOFFSETFROM:+0200
TZOFFSETTO:+0300
TZNAME:EEST
DTSTART:20230326T010000
END:DAYLIGHT
BEGIN:STANDARD
TZOFFSETFROM:+0300
TZOFFSETTO:+0200
TZNAME:EET
DTSTART:20231029T010000
END:STANDARD
BEGIN:DAYLIGHT
TZOFFSETFROM:+0200
TZOFFSETTO:+0300
TZNAME:EEST
DTSTART:20240331T010000
END:DAYLIGHT
BEGIN:STANDARD
TZOFFSETFROM:+0300
TZOFFSETTO:+0200
TZNAME:EET
DTSTART:20241027T010000
END:STANDARD
BEGIN:DAYLIGHT
TZOFFSETFROM:+0200
TZOFFSETTO:+0300
TZNAME:EEST
DTSTART:20250330T010000
END:DAYLIGHT
BEGIN:STANDARD
TZOFFSETFROM:+0300
TZOFFSETTO:+0200
TZNAME:EET
DTSTART:20251026T010000
END:STANDARD
END:VTIMEZONE
BEGIN:VEVENT
DTSTART;TZID=Europe/Helsinki:20240515T121500
DTEND;TZID=Europe/Helsinki:20240515T121500
DTSTAMP:20260423T144139
CREATED:20240511T071044Z
LAST-MODIFIED:20240511T071044Z
UID:6989-1715775300-1715775300@www.entisetnuoret.fi
SUMMARY:EN Kino - Civil War 15.5.
DESCRIPTION:Seuraava leffamme on ke 15.5. klo 12.15 alkava Civil War.
URL:https://www.entisetnuoret.fi/tapahtuma/en-kino-civil-war-15-5/
LOCATION:Niagara\, Kehräsaari B\, 33200 Tampere\, Tampere\, Suomi
CATEGORIES:Tapahtumakalenteri
END:VEVENT
END:VCALENDAR