BEGIN:VCALENDAR
VERSION:2.0
PRODID:-//Entiset Nuoret - ECPv6.15.20//NONSGML v1.0//EN
CALSCALE:GREGORIAN
METHOD:PUBLISH
X-WR-CALNAME:Entiset Nuoret
X-ORIGINAL-URL:https://www.entisetnuoret.fi
X-WR-CALDESC:Tapahtumat Entiset Nuoret
REFRESH-INTERVAL;VALUE=DURATION:PT1H
X-Robots-Tag:noindex
X-PUBLISHED-TTL:PT1H
BEGIN:VTIMEZONE
TZID:Europe/Helsinki
BEGIN:DAYLIGHT
TZOFFSETFROM:+0200
TZOFFSETTO:+0300
TZNAME:EEST
DTSTART:20220327T010000
END:DAYLIGHT
BEGIN:STANDARD
TZOFFSETFROM:+0300
TZOFFSETTO:+0200
TZNAME:EET
DTSTART:20221030T010000
END:STANDARD
BEGIN:DAYLIGHT
TZOFFSETFROM:+0200
TZOFFSETTO:+0300
TZNAME:EEST
DTSTART:20230326T010000
END:DAYLIGHT
BEGIN:STANDARD
TZOFFSETFROM:+0300
TZOFFSETTO:+0200
TZNAME:EET
DTSTART:20231029T010000
END:STANDARD
BEGIN:DAYLIGHT
TZOFFSETFROM:+0200
TZOFFSETTO:+0300
TZNAME:EEST
DTSTART:20240331T010000
END:DAYLIGHT
BEGIN:STANDARD
TZOFFSETFROM:+0300
TZOFFSETTO:+0200
TZNAME:EET
DTSTART:20241027T010000
END:STANDARD
END:VTIMEZONE
BEGIN:VEVENT
DTSTART;TZID=Europe/Helsinki:20231207T170000
DTEND;TZID=Europe/Helsinki:20231207T170000
DTSTAMP:20260422T144739
CREATED:20231127T075404Z
LAST-MODIFIED:20231127T075404Z
UID:5652-1701968400-1701968400@www.entisetnuoret.fi
SUMMARY:EN Keskustelua - Luopuminen taloudellisen kasvun ideologiasta?
DESCRIPTION:EN Keskustelua Ukkometson kabinetissa to 7.12. klo 17.\nAiheena mahdollisuus/mahdottomuus/välttämättömyys luopua taloudellisen kasvun ideologiasta.
URL:https://www.entisetnuoret.fi/tapahtuma/en-keskustelua-luopuminen-taloudellisen-kasvun-ideologiasta/
LOCATION:Ravintola Ukkometson Koppelo-kabinetti\, Kauppakatu 16\, Tampere\, Suomi
CATEGORIES:Tapahtumakalenteri
END:VEVENT
END:VCALENDAR