BEGIN:VCALENDAR
VERSION:2.0
PRODID:-//Entiset Nuoret - ECPv6.15.20//NONSGML v1.0//EN
CALSCALE:GREGORIAN
METHOD:PUBLISH
X-WR-CALNAME:Entiset Nuoret
X-ORIGINAL-URL:https://www.entisetnuoret.fi
X-WR-CALDESC:Tapahtumat Entiset Nuoret
REFRESH-INTERVAL;VALUE=DURATION:PT1H
X-Robots-Tag:noindex
X-PUBLISHED-TTL:PT1H
BEGIN:VTIMEZONE
TZID:Europe/Moscow
BEGIN:STANDARD
TZOFFSETFROM:+0300
TZOFFSETTO:+0300
TZNAME:MSK
DTSTART:20240101T000000
END:STANDARD
END:VTIMEZONE
BEGIN:VEVENT
DTSTART;TZID=Europe/Moscow:20250114T000000
DTEND;TZID=Europe/Moscow:20250114T000000
DTSTAMP:20260422T232043
CREATED:20250109T165819Z
LAST-MODIFIED:20250109T165819Z
UID:9529-1736812800-1736812800@www.entisetnuoret.fi
SUMMARY:EN Retki - 14.1. Anttilan Päivin luotsaama kävelyretki Kansalaistalolta
DESCRIPTION:14.1. Anttilan Päivin luotsaama kävelyretki Kansalaistalolta \nTarkemmat tiedot lähempänä tapahtumaa
URL:https://www.entisetnuoret.fi/tapahtuma/en-retki-14-1-anttilan-paivin-luotsaama-kavelyretki-kansalaistalolta/
LOCATION:TampereMission-talo\, Jokipohjantie 63\, Tampere
CATEGORIES:Tapahtumakalenteri
END:VEVENT
END:VCALENDAR