BEGIN:VCALENDAR
VERSION:2.0
PRODID:-//Entiset Nuoret - ECPv6.15.20//NONSGML v1.0//EN
CALSCALE:GREGORIAN
METHOD:PUBLISH
X-WR-CALNAME:Entiset Nuoret
X-ORIGINAL-URL:https://www.entisetnuoret.fi
X-WR-CALDESC:Tapahtumat Entiset Nuoret
REFRESH-INTERVAL;VALUE=DURATION:PT1H
X-Robots-Tag:noindex
X-PUBLISHED-TTL:PT1H
BEGIN:VTIMEZONE
TZID:Europe/Helsinki
BEGIN:DAYLIGHT
TZOFFSETFROM:+0200
TZOFFSETTO:+0300
TZNAME:EEST
DTSTART:20250330T010000
END:DAYLIGHT
BEGIN:STANDARD
TZOFFSETFROM:+0300
TZOFFSETTO:+0200
TZNAME:EET
DTSTART:20251026T010000
END:STANDARD
BEGIN:DAYLIGHT
TZOFFSETFROM:+0200
TZOFFSETTO:+0300
TZNAME:EEST
DTSTART:20260329T010000
END:DAYLIGHT
BEGIN:STANDARD
TZOFFSETFROM:+0300
TZOFFSETTO:+0200
TZNAME:EET
DTSTART:20261025T010000
END:STANDARD
BEGIN:DAYLIGHT
TZOFFSETFROM:+0200
TZOFFSETTO:+0300
TZNAME:EEST
DTSTART:20270328T010000
END:DAYLIGHT
BEGIN:STANDARD
TZOFFSETFROM:+0300
TZOFFSETTO:+0200
TZNAME:EET
DTSTART:20271031T010000
END:STANDARD
END:VTIMEZONE
BEGIN:VEVENT
DTSTART;TZID=Europe/Helsinki:20260105T130000
DTEND;TZID=Europe/Helsinki:20260105T130000
DTSTAMP:20260420T115310
CREATED:20251219T150700Z
LAST-MODIFIED:20251219T150700Z
UID:12134-1767618000-1767618000@www.entisetnuoret.fi
SUMMARY:EN - Tammikuun lounas 5.1.
DESCRIPTION:Tervetuloa Entisten Nuorten tammikuun lounaalle Telakalle maanantaina 5.1.2026 klo 13! Lounasalennus 10 % eläkeläiskortilla!
URL:https://www.entisetnuoret.fi/tapahtuma/en-tammikuun-lounas-5-1/
LOCATION:Ravintola Telakka\, Tullikamarin aukio 3\, 33100 Tampere\, Suomi
CATEGORIES:Tapahtumakalenteri
END:VEVENT
BEGIN:VEVENT
DTSTART;TZID=Europe/Helsinki:20260105T140000
DTEND;TZID=Europe/Helsinki:20260105T140000
DTSTAMP:20260420T115311
CREATED:20260101T161058Z
LAST-MODIFIED:20260101T161058Z
UID:12193-1767621600-1767621600@www.entisetnuoret.fi
SUMMARY:EN Retki - Suunnittelupalaveri 5.1.
DESCRIPTION:Sovimme tulevista retkistämme EN-lounaan jälkeen 5.1. klo 14 Telakan yläkerrassa. Jos yläkerta ei ole käytettävissä (en ole saanut vielä vahvistusta) niin ollaan alakerrassa.\nTervetuloa!
URL:https://www.entisetnuoret.fi/tapahtuma/en-retki-suunnittelupalaveri-5-1/
LOCATION:Ravintola Telakka\, Tullikamarin aukio 3\, 33100 Tampere\, Suomi
CATEGORIES:Tapahtumakalenteri
END:VEVENT
BEGIN:VEVENT
DTSTART;TZID=Europe/Helsinki:20260105T191500
DTEND;TZID=Europe/Helsinki:20260105T191500
DTSTAMP:20260420T115311
CREATED:20251231T061145Z
LAST-MODIFIED:20251231T061145Z
UID:12191-1767640500-1767640500@www.entisetnuoret.fi
SUMMARY:EN Kino - Nuremberg ma 5.1.
DESCRIPTION:Seuraavaksi katsotaan elokuva Nuremberg ma 5.1. klo 19.15.
URL:https://www.entisetnuoret.fi/tapahtuma/en-kino-nuremberg-ma-5-1/
LOCATION:Niagara\, Kehräsaari B\, 33200 Tampere\, Tampere\, Suomi
CATEGORIES:Tapahtumakalenteri
END:VEVENT
BEGIN:VEVENT
DTSTART;TZID=Europe/Helsinki:20260107T180000
DTEND;TZID=Europe/Helsinki:20260107T180000
DTSTAMP:20260420T115311
CREATED:20251222T024437Z
LAST-MODIFIED:20251222T024437Z
UID:12175-1767808800-1767808800@www.entisetnuoret.fi
SUMMARY:EN Keskustelu - Anneli Kanto 7.1.
DESCRIPTION:Kymmenes Entisten Nuorten verkoston toimintavuosi on lopuillaan. Laskeudumme jouluun ja\nsitten uuden vuoden juhlintaan. Mutta heti loppiaisen jälkeen ke 7.1. klo 18 kirjailija Anneli\nKanto kertoo keskusteluillassa Telakan yläkerrassa työstään ja tuotannostaan.\nMiten kirjailija valitsee ajankohdan ja aiheen (esim. Rottien pyhimyksessä Hattulan Pyhän\nRistin kirkon maalaaminen 1500-luvulla; kansalaissota;\nuseat lastenkirjat; uutena näytelmäkäsikirjoitus Maria Jotunista jne).\nMistä ja miten tarkkaan Anneli haarukoi kirjojen ajan historiaa\, jututtaako joitain ihmisiä\nasiahauissa ja faktoissa\, mihin tarttuu\, mitä jättää pois jne.\nAnneli Kanto on tuotelias kirjoittaja monella saralla. Millaista on tuo työ? Ja mitä hän itse\nmieluiten lukee? Kertomansa ohessa alustaja toivoo: Kysykää!\nVerkostossamme mukana oleva Anneli on tamperelainen kirjailija ja käsikirjoittaja\, joka on\nkirjoittanut historiallisia romaaneja\, lasten- ja nuortenkirjoja\, näytelmiä sekä tv-draamoja.\nHän valmistui Tampereen yliopistosta yhteiskuntatieteiden maisteriksi pääaineenaan lehdistö-\nja tiedotusoppi. Ennen kirjailijanuraansa hän työskenteli pitkään toimittajana sanoma- ja\naikakauslehdissä.\nSiis Telakan yläkertaan ke 7.1.2026 klo 18.
URL:https://www.entisetnuoret.fi/tapahtuma/en-keskustelu-anneli-kanto-7-1/
LOCATION:Ravintola Telakka\, Tullikamarin aukio 3\, 33100 Tampere\, Suomi
CATEGORIES:Tapahtumakalenteri
END:VEVENT
BEGIN:VEVENT
DTSTART;TZID=Europe/Helsinki:20260112T171500
DTEND;TZID=Europe/Helsinki:20260112T171500
DTSTAMP:20260420T115311
CREATED:20260106T112011Z
LAST-MODIFIED:20260106T112011Z
UID:12199-1768238100-1768238100@www.entisetnuoret.fi
SUMMARY:EN Kino - Nouvelle Vague ma 12.1.
DESCRIPTION:Seuraavaksi katsomme Nouvelle Vaguen ma 12.1. klo 17.15.
URL:https://www.entisetnuoret.fi/tapahtuma/en-kino-nouvelle-vague-ma-12-1/
LOCATION:Niagara\, Kehräsaari B\, 33200 Tampere\, Tampere\, Suomi
CATEGORIES:Tapahtumakalenteri
END:VEVENT
BEGIN:VEVENT
DTSTART;TZID=Europe/Helsinki:20260113T130000
DTEND;TZID=Europe/Helsinki:20260113T170000
DTSTAMP:20260420T115311
CREATED:20260106T134747Z
LAST-MODIFIED:20260106T134852Z
UID:12204-1768309200-1768323600@www.entisetnuoret.fi
SUMMARY:EN Kansalaistalo - Toiminta käynnistyy tiistaina 13. tammikuuta klo 13-17
DESCRIPTION:EN Kansalaistalon toiminta käynnistyy taas tiistaina 13. tammikuuta klo 13-17. \nEnsimmäisellä kerralla ideoidaan tulevaa toimintaa kahvikupposen ääressä\, minkä jälkeen perinteiset ryhmät – kortinpelaajat\, neulojat\, musikantit ja venyttelijät – jatkavat omissa ryhmissään. \nPerinnekokkaajien ryhmä aloittaa vasta tiistaina 20.1. klo 13. He kokkailevat ryhmälleen herkkuja noin kerran kuukaudessa. \nTalolla ei ole yleistä ruokatarjoilua\, joten ota mukaan omat eväät. \nTervetuloa ideoimaan ja osallistumaan! Talo tarjoaa hyvät tilat monen moiseen puuhaan. Miten olisi ulkoilulenkki ja sen perään sauna? Tai laskiaistapahtuma ulkogrilleineen? Värikäs kasviskurssi tai sokerileivonta? \nOtathan mukaan sisätossut tai -sukat\, kiitos. \nMISSÄ: TampereMission -kansalaistalo\, Jokipohjantie 63\, Vihiojanpuiston läheisyydessä (jossa frisbeegolfrata ja pelikenttiä) \nMILLOIN: Talo käytössämme tiistaisin klo 13-17 ( 28.4.26 asti). \nNÄIN PÄÄSET: Bussi nro 14\, lähin pysäkki Santamatinkatu. Bussi nro 10\, Keskustorilta Kaukajärvelle tullessa pysäkki Jokipohjantie 18\, josta talolle kävelyä 900 m. Parkkitilaa on kadun varrella ja muutama paikka autotallin edessä. \nTILOJEN KÄYTTÖ: Talossa on reippaat 300 neliötä. Viihtyisien oleskelutilojen lisäksi käytössämme on tilava keittiö astioineen ja astianpesukoneineen\, kokoushuoneita\, saunatilat\, grillipaikka ja takkahuone. \nKun järjestät Entisten Nuorten -verkoston tilaisuutta\, huomaa\, että tilassa saa olla enintään 50 henkilöä samaan aikaan. \nMUISTA: Taloa käyttävien ryhmien pitää viedä tuomansa elintarvikkeet pois ja huolehtia roskansa pihan jäteastioihin. Ovet lukitaan\, valot pois ja siirretyt kalusteet ennalleen. Perussiivouksen hoitaa TampereMissio. \nTervetuloa! \nVastaan mielelläni kysymyksiin osoitteessa: annelijohansson12@gmail.com \nTalon toiminnasta tiedotetaan EN Kansalaistalo -ryhmässä. Liity lomakkeella!\nEN Kansalaistalo – Entiset Nuoret
URL:https://www.entisetnuoret.fi/tapahtuma/en-kansalaistalo-toiminta-kaynnistyy-tiistaina-13-tammikuuta-klo-13-17/
LOCATION:TampereMission-talo\, Jokipohjantie 63\, Tampere
CATEGORIES:Tapahtumakalenteri
END:VEVENT
BEGIN:VEVENT
DTSTART;TZID=Europe/Helsinki:20260114T100000
DTEND;TZID=Europe/Helsinki:20260114T100000
DTSTAMP:20260420T115311
CREATED:20250906T043348Z
LAST-MODIFIED:20260107T104840Z
UID:11035-1768384800-1768384800@www.entisetnuoret.fi
SUMMARY:EN Retki - Ke 14.1. Kuntokolmonen\, Kauppi
DESCRIPTION:Tämän vuoden ensimmäinen retki suuntautuu Kaupin-Rauhanniemen alueelle. Laajennettu Kuntokolmosen lenkki kierretään keskiviikkona 14.1.2026. Kokoonnumme Nysse 2:n päätepysäkille (Käpylä\, Rauhanniementie) klo 10\, kävelemme Kuntokolmosen polulle ja kierrämme lenkin. Reitillä ei ole evästelypaikkaa\, joten lenkiltä jatkamme Koukkuniemenpuistoon ja rantaa pitkin Talvipuutarha Sommerin kahvilaan. Kahvittelu tuo retkeen pari lisäkilometriä. Kahvin jälkeen voi ”nysseillä” kotiin (kakkosen pysäkki lähellä) tai kävellä Ranta-Tampellan rantoja pitkin keskustaan. \nTervetuloa!
URL:https://www.entisetnuoret.fi/tapahtuma/en-retki-ke-14-1-kuntokolmonen-kauppi/
CATEGORIES:Tapahtumakalenteri
END:VEVENT
BEGIN:VEVENT
DTSTART;TZID=Europe/Helsinki:20260118T141500
DTEND;TZID=Europe/Helsinki:20260118T141500
DTSTAMP:20260420T115311
CREATED:20260113T171942Z
LAST-MODIFIED:20260113T171942Z
UID:12227-1768745700-1768745700@www.entisetnuoret.fi
SUMMARY:EN Kino - The Salt Path 18.1.
DESCRIPTION:Seuraavaksi elokuvaksi valittiin The Salt Path. Katsotaan se ensi sunnuntaina 18.1. klo 14.15.
URL:https://www.entisetnuoret.fi/tapahtuma/en-kino-the-salt-path-18-1/
LOCATION:Niagara\, Kehräsaari B\, 33200 Tampere\, Tampere\, Suomi
CATEGORIES:Tapahtumakalenteri
END:VEVENT
BEGIN:VEVENT
DTSTART;TZID=Europe/Helsinki:20260126T163000
DTEND;TZID=Europe/Helsinki:20260126T163000
DTSTAMP:20260420T115311
CREATED:20260120T154547Z
LAST-MODIFIED:20260120T154547Z
UID:12236-1769445000-1769445000@www.entisetnuoret.fi
SUMMARY:EN Kino - Siw 26.1.
DESCRIPTION:Maanantaina 26.1. klo 16.30 katsotaan Siw.
URL:https://www.entisetnuoret.fi/tapahtuma/en-kino-siw-26-1/
LOCATION:Niagara\, Kehräsaari B\, 33200 Tampere\, Tampere\, Suomi
CATEGORIES:Tapahtumakalenteri
END:VEVENT
BEGIN:VEVENT
DTSTART;TZID=Europe/Helsinki:20260129T120000
DTEND;TZID=Europe/Helsinki:20260129T120000
DTSTAMP:20260420T115311
CREATED:20260111T161828Z
LAST-MODIFIED:20260111T161828Z
UID:12225-1769688000-1769688000@www.entisetnuoret.fi
SUMMARY:EN Lyhyet retket - Lähtö Työväenmuseo Werstas 29.1.
DESCRIPTION:Lähtö Työväenmuseo Werstaan ala-aulasta/ulko-oven edestä kello 12:00\, Väinö Linnan aukio 8. Reitti sään mukaan\, jäätävällä säällä teemme retken Werstaalle (ilmainen). Päämääränä Amurin Helmi. Ei ilmoittautumista.
URL:https://www.entisetnuoret.fi/tapahtuma/en-lyhyet-retket-lahto-tyovaenmuseo-werstas-29-1/
CATEGORIES:Tapahtumakalenteri
END:VEVENT
BEGIN:VEVENT
DTSTART;TZID=Europe/Helsinki:20260129T140000
DTEND;TZID=Europe/Helsinki:20260129T160000
DTSTAMP:20260420T115311
CREATED:20260113T172243Z
LAST-MODIFIED:20260113T172243Z
UID:12229-1769695200-1769702400@www.entisetnuoret.fi
SUMMARY:EN Asu - Kodinvaihto eläkeiässä
DESCRIPTION:Tule keskustelemaan 29.1. klo 14 Telakalle:\nKodinvaihto eläkeiässä\nVuosi sitten aloittanut EN Asu -inforyhmä jatkaa paljon kiinnostusta herättäneitä tapaamisia ikäihmisten asumisteemalla. \nJos pohdit\, miten haluaisit asua ennen hoivavaihetta ja mitä kaikkea uudet asumisjärjestelyt edellyttävät\, tule kuulemaan ja jakamaan kokemuksiasi. \nKODINVAIHTO ELÄKEIÄSSÄ\n-vinkkejä myyntiin\, ostoon ja vuokraukseen \nLKV\, YKV Terhi Loikkasen alustus ja keskustelua \nMilloin: torstaina 29.1. 26 klo 14–16\nMissä: Ravintola Telakka 2. kerros (Tullikamarin aukio 3) \nTilaisuuden vetäjänä Taina Törmä \nLöydät lisätietoa asumisen vaihtoehdoista Pirkanmaalla EN Asu -infosta. \nTervetuloa!
URL:https://www.entisetnuoret.fi/tapahtuma/en-asu-kodinvaihto-elakeiassa/
LOCATION:Ravintola Telakka\, Tullikamarin aukio 3\, 33100 Tampere\, Suomi
CATEGORIES:Tapahtumakalenteri
END:VEVENT
BEGIN:VEVENT
DTSTART;TZID=Europe/Helsinki:20260203T163000
DTEND;TZID=Europe/Helsinki:20260203T163000
DTSTAMP:20260420T115311
CREATED:20260128T041856Z
LAST-MODIFIED:20260128T041856Z
UID:12247-1770136200-1770136200@www.entisetnuoret.fi
SUMMARY:EN Kino - Marty Supreme - unelmoi isosti ti 3.2.
DESCRIPTION:Katsotaan yhdessä Marty Supreme – unelmoi isosti ti 3.2. klo 16.30.
URL:https://www.entisetnuoret.fi/tapahtuma/en-kino-marty-supreme-unelmoi-isosti-ti-3-2/
LOCATION:Niagara\, Kehräsaari B\, 33200 Tampere\, Tampere\, Suomi
CATEGORIES:Tapahtumakalenteri
END:VEVENT
BEGIN:VEVENT
DTSTART;TZID=Europe/Helsinki:20260205T130000
DTEND;TZID=Europe/Helsinki:20260205T130000
DTSTAMP:20260420T115311
CREATED:20260127T045553Z
LAST-MODIFIED:20260127T045553Z
UID:12245-1770296400-1770296400@www.entisetnuoret.fi
SUMMARY:EN - Helmikuun lounas 5. 2.
DESCRIPTION:Tervetuloa Entisten Nuorten helmikuun lounaalle Telakalle torstaina 5.2.2026 klo 13! Lounasalennus 10 % eläkeläiskortilla!
URL:https://www.entisetnuoret.fi/tapahtuma/en-helmikuun-lounas-5-2/
LOCATION:Ravintola Telakka\, Tullikamarin aukio 3\, 33100 Tampere\, Suomi
CATEGORIES:Tapahtumakalenteri
END:VEVENT
BEGIN:VEVENT
DTSTART;TZID=Europe/Helsinki:20260205T130000
DTEND;TZID=Europe/Helsinki:20260205T130000
DTSTAMP:20260420T115311
CREATED:20260203T035550Z
LAST-MODIFIED:20260203T035550Z
UID:12325-1770296400-1770296400@www.entisetnuoret.fi
SUMMARY:EN Kapinoi - Telakalle 5.2.
DESCRIPTION:Torstaina 5.2. tapaamme klo 13 Telakan 2. kerroksessa. Aiheena ilmaston muutoksen hillitseminen ja siihen varautuminen: mitä Tampereen kaupunki tekee ja mitä kaupunkilaiset voivat tehdä. Suunnittelija Annika Kettunen\, Tampereen kaupungin ilmasto- ja ympäristöpolitiikka -yksiköstä johdattelee ja vastaa aiheeseen liittyviin kysymyksiimme.
URL:https://www.entisetnuoret.fi/tapahtuma/en-kapinoi-telakalle-5-2/
LOCATION:Ravintola Telakka\, Tullikamarin aukio 3\, 33100 Tampere\, Suomi
CATEGORIES:Tapahtumakalenteri
END:VEVENT
BEGIN:VEVENT
DTSTART;TZID=Europe/Helsinki:20260211T144500
DTEND;TZID=Europe/Helsinki:20260211T144500
DTSTAMP:20260420T115311
CREATED:20260205T055529Z
LAST-MODIFIED:20260205T055529Z
UID:12330-1770821100-1770821100@www.entisetnuoret.fi
SUMMARY:EN Kino - Kontinental ’25 11.2.
DESCRIPTION:Katsotaan ke 11.2. klo 14.45 Kontinental ’25.
URL:https://www.entisetnuoret.fi/tapahtuma/en-kino-kontinental-25-11-2/
LOCATION:Niagara\, Kehräsaari B\, 33200 Tampere\, Tampere\, Suomi
CATEGORIES:Tapahtumakalenteri
END:VEVENT
BEGIN:VEVENT
DTSTART;TZID=Europe/Helsinki:20260217T093000
DTEND;TZID=Europe/Helsinki:20260217T093000
DTSTAMP:20260420T115311
CREATED:20260212T075441Z
LAST-MODIFIED:20260212T075441Z
UID:12351-1771320600-1771320600@www.entisetnuoret.fi
SUMMARY:EN Kino - Hamnet ti 17.2.
DESCRIPTION:Seuraava yhteinen kino on aamuvirkuille: Hamnet ti 17.2. klo 9.30.
URL:https://www.entisetnuoret.fi/tapahtuma/en-kino-hamnet-ti-17-2/
LOCATION:Niagara\, Kehräsaari B\, 33200 Tampere\, Tampere\, Suomi
CATEGORIES:Tapahtumakalenteri
END:VEVENT
BEGIN:VEVENT
DTSTART;TZID=Europe/Helsinki:20260225T100000
DTEND;TZID=Europe/Helsinki:20260225T100000
DTSTAMP:20260420T115311
CREATED:20260106T174414Z
LAST-MODIFIED:20260219T084651Z
UID:12206-1772013600-1772013600@www.entisetnuoret.fi
SUMMARY:EN Retki - Ke 25.2. Kintulammi
DESCRIPTION:Seuraava retkemme suuntautuu Teisko-Aitolahdessa sijaitsevalle Kintulammille keskiviikkona 25.2.2026. \nKokoonnumme Kintulammin P2:lla osoitteessa Kintulammentie 378. Kierrämme Kaulamoisten kautta ja syömme eväitä Kaukaloisten kallion tulistelupaikalla. Paluureitti kiertää vähän etelämpää reittiä kohti Kintulammia. \nReitti on melko helppo\, tosin talviaikaan on varauduttava liukkauteen. Matkaa kertyy noin seitsemän kilometriä. \nLähtö Kalevan ABC:ltä kello 10 tai autokunnan sopimasta muusta paikasta. \nTervetuloa!
URL:https://www.entisetnuoret.fi/tapahtuma/en-retki-ke-25-2-hameenlinna-ahvenisto/
CATEGORIES:Tapahtumakalenteri
END:VEVENT
BEGIN:VEVENT
DTSTART;TZID=Europe/Helsinki:20260301T120000
DTEND;TZID=Europe/Helsinki:20260301T120000
DTSTAMP:20260420T115311
CREATED:20260225T073958Z
LAST-MODIFIED:20260225T073958Z
UID:12458-1772366400-1772366400@www.entisetnuoret.fi
SUMMARY:EN Kino - Vasenkätinen tyttö 1.3.
DESCRIPTION:Seuraava elokuva on Vasenkätinen tyttö su 1.3. klo 12.
URL:https://www.entisetnuoret.fi/tapahtuma/en-kino-vasenkatinen-tytto-1-3/
LOCATION:Niagara\, Kehräsaari B\, 33200 Tampere\, Tampere\, Suomi
CATEGORIES:Tapahtumakalenteri
END:VEVENT
BEGIN:VEVENT
DTSTART;TZID=Europe/Helsinki:20260303T130000
DTEND;TZID=Europe/Helsinki:20260303T170000
DTSTAMP:20260420T115311
CREATED:20260302T141839Z
LAST-MODIFIED:20260302T141839Z
UID:12554-1772542800-1772557200@www.entisetnuoret.fi
SUMMARY:EN Kansalaistalo
DESCRIPTION:EN Kansalaistalo (Nekalassa Jokipohjantie 63) klo13-17.
URL:https://www.entisetnuoret.fi/tapahtuma/en-kansalaistalo-3/
LOCATION:TampereMission-talo\, Jokipohjantie 63\, Tampere
CATEGORIES:Tapahtumakalenteri
END:VEVENT
BEGIN:VEVENT
DTSTART;TZID=Europe/Helsinki:20260303T180000
DTEND;TZID=Europe/Helsinki:20260303T180000
DTSTAMP:20260420T115311
CREATED:20260213T123855Z
LAST-MODIFIED:20260213T123855Z
UID:12353-1772560800-1772560800@www.entisetnuoret.fi
SUMMARY:EN - Eve Jaakkola kertoo kirjastaan "Poikani on ammuttu" Telakalla 3.3.
DESCRIPTION:EN-aktiivi Eve Jaakkola kertoo kirjastaan ”Poikani on ammuttu” tiistaina 3.3.2026 kello 18 Telakalla. \nTamperelais-turkulainen kansalaisaktiivi Jyri Jaakkola ammuttiin huhtikuussa 2010 humanitaarisessa karavaanissa\, joka oli matkalla triqui-alkuperäiskansan kylään Meksikon Oaxacassa. \nJyrin äiti Eve Jaakkola on kirjoittanut murhasta ja sen jälkeisistä tapahtumista kirjan ”Poikani on ammuttu”. Kirja julkaistaan 19.2.2026. EN-keskusteluillassa 3.3.2026 Eve kertoo kirjan teemoista: Jyrin työstä ja toiminnasta\, surusta\, ihmisoikeustyöstä ja oikeustaistelusta. \nTervetuloa Telakan yläkertaan kello 18!
URL:https://www.entisetnuoret.fi/tapahtuma/en-eve-jaakkola-kertoo-kirjastaan-poikani-on-ammuttu-telakalla-3-3/
LOCATION:Ravintola Telakka\, Tullikamarin aukio 3\, 33100 Tampere\, Suomi
CATEGORIES:Tapahtumakalenteri
END:VEVENT
BEGIN:VEVENT
DTSTART;TZID=Europe/Helsinki:20260305T130000
DTEND;TZID=Europe/Helsinki:20260305T130000
DTSTAMP:20260420T115311
CREATED:20260227T083724Z
LAST-MODIFIED:20260227T083724Z
UID:12537-1772715600-1772715600@www.entisetnuoret.fi
SUMMARY:EN - Maaliskuun lounas 5.3. Telakalla
DESCRIPTION:Tervetuloa Entisten Nuorten maaliskuun lounaalle Telakalle torstaina 5.3.2026 klo 13! Lounasalennus 10 % eläkeläiskortilla!
URL:https://www.entisetnuoret.fi/tapahtuma/en-maaliskuun-lounas-5-3-telakalla/
LOCATION:Ravintola Telakka\, Tullikamarin aukio 3\, 33100 Tampere\, Suomi
CATEGORIES:Tapahtumakalenteri
END:VEVENT
BEGIN:VEVENT
DTSTART;TZID=Europe/Helsinki:20260309T114500
DTEND;TZID=Europe/Helsinki:20260309T114500
DTSTAMP:20260420T115311
CREATED:20260304T065320Z
LAST-MODIFIED:20260304T065320Z
UID:12557-1773056700-1773056700@www.entisetnuoret.fi
SUMMARY:EN Kino - Isänpäivä. Ma 9.3.
DESCRIPTION:Seuraavaksi jo aiemmin ehdotettu Isänpäivä. Ma 9.3. klo 11.45.
URL:https://www.entisetnuoret.fi/tapahtuma/en-kino-isanpaiva-ma-9-3/
LOCATION:Niagara\, Kehräsaari B\, 33200 Tampere\, Tampere\, Suomi
CATEGORIES:Tapahtumakalenteri
END:VEVENT
BEGIN:VEVENT
DTSTART;TZID=Europe/Helsinki:20260310T130000
DTEND;TZID=Europe/Helsinki:20260310T170000
DTSTAMP:20260420T115311
CREATED:20260306T074037Z
LAST-MODIFIED:20260306T074037Z
UID:12566-1773147600-1773162000@www.entisetnuoret.fi
SUMMARY:EN - Kansalaistalo
DESCRIPTION:EN Kansalaistalo (Nekalassa Jokipohjantie 63) klo13-17.
URL:https://www.entisetnuoret.fi/tapahtuma/en-kansalaistalo-4/
LOCATION:TampereMission-talo\, Jokipohjantie 63\, Tampere
CATEGORIES:Tapahtumakalenteri
END:VEVENT
BEGIN:VEVENT
DTSTART;TZID=Europe/Helsinki:20260312T100000
DTEND;TZID=Europe/Helsinki:20260312T100000
DTSTAMP:20260420T115311
CREATED:20260106T174710Z
LAST-MODIFIED:20260306T062720Z
UID:12209-1773309600-1773309600@www.entisetnuoret.fi
SUMMARY:EN Retki - To 12.3. Jääkävely Lapinniemi-Siilinkari-Keissaari
DESCRIPTION:Hei kaikki reippaat! \nTervetuloa retkelle huikaisevan jäälakeuden poikki tarunhohtoiselle Keissaarelle torstaina 12.3.2026. Lähtö Lapinniemen kärjestä klo 10 tai vaihtoehtoisesti Ranta-Tampellasta samaan aikaan. Retken kokonaispituus n. 8 km. Ei raskaita nousuja eikä vaarallisia laskuja. \nReitti: Lapinniemi – Siilinkari 1.1 km\, Siilinkari – Keissaari (tulipaikka) 3.3 km\, Keissaari – Reuharinniemi (tulipaikka) – 1.8 km\, Reuharinniemi – Pyhällönpuisto (ratikka) 1.7 km. \nOhje bussilla tuleville: Bussi nro 2\, Lapinniemen pysäkki\, josta Lapinniemenranta-nimistä katua pitkin sen päähän laivalaiturille. \nOhje omalla tai kaverin autolla tulijoille: Pysäköintipaikkoja on Lapinniemessä todella nirkoisesti. Lapinkaari-nimisen kadun varrella muutama. Varmin vaihtoehto on jättää auto K-marketia vastapäätä olevalle P-alueelle. \nJäällä on tällä hetkellä erittäin liukasta\, joten nyt viimeistään ne liukuesteet hankintaan! Jäätilanteen mahdollisesta muutoksista tiedotetaan EN Retken whatsapp-ryhmässä.
URL:https://www.entisetnuoret.fi/tapahtuma/en-retki-to-12-3-jaakavely-lapinniemi-siilinkari-keissaari/
CATEGORIES:Tapahtumakalenteri
END:VEVENT
BEGIN:VEVENT
DTSTART;TZID=Europe/Helsinki:20260316T181500
DTEND;TZID=Europe/Helsinki:20260316T181500
DTSTAMP:20260420T115311
CREATED:20260309T164353Z
LAST-MODIFIED:20260309T164353Z
UID:12638-1773684900-1773684900@www.entisetnuoret.fi
SUMMARY:EN Kino - Koivikko 16.3.
DESCRIPTION:Seuraavaksi Niagaran klassikkosarjassa tuleva Wajdan Koivikko ma 16.3. klo 18.15. Liput lienee syytä ostaa ajoissa.
URL:https://www.entisetnuoret.fi/tapahtuma/en-kino-koivikko-16-3/
LOCATION:Niagara\, Kehräsaari B\, 33200 Tampere\, Tampere\, Suomi
CATEGORIES:Tapahtumakalenteri
END:VEVENT
BEGIN:VEVENT
DTSTART;TZID=Europe/Helsinki:20260320T120000
DTEND;TZID=Europe/Helsinki:20260320T120000
DTSTAMP:20260420T115311
CREATED:20260302T140949Z
LAST-MODIFIED:20260302T140949Z
UID:12552-1774008000-1774008000@www.entisetnuoret.fi
SUMMARY:EN Lyhyet retket - Pe 20.3. Finlayson
DESCRIPTION:Lähtö Työväenmuseo Werstaan ulko-oven edestä kello 12:00\, Väinö Linnan aukio 8. Kävelemme puistoalueita pitkin Amurin Helmeen. Ei ilmoittautumista.
URL:https://www.entisetnuoret.fi/tapahtuma/en-lyhyet-retket-pe-20-3-finlayson/
CATEGORIES:Tapahtumakalenteri
END:VEVENT
BEGIN:VEVENT
DTSTART;TZID=Europe/Helsinki:20260322T163000
DTEND;TZID=Europe/Helsinki:20260322T163000
DTSTAMP:20260420T115311
CREATED:20260318T054908Z
LAST-MODIFIED:20260318T054908Z
UID:12654-1774197000-1774197000@www.entisetnuoret.fi
SUMMARY:EN Kino - Se oli pelkkä sattuma 22.3.
DESCRIPTION:Su 22.3. klo 16.30 katsotaan Se oli pelkkä sattuma.
URL:https://www.entisetnuoret.fi/tapahtuma/en-kino-se-oli-pelkka-sattuma-22-3/
LOCATION:Niagara\, Kehräsaari B\, 33200 Tampere\, Tampere\, Suomi
CATEGORIES:Tapahtumakalenteri
END:VEVENT
BEGIN:VEVENT
DTSTART;TZID=Europe/Helsinki:20260324T130000
DTEND;TZID=Europe/Helsinki:20260324T170000
DTSTAMP:20260420T115311
CREATED:20260318T074020Z
LAST-MODIFIED:20260318T074020Z
UID:12656-1774357200-1774371600@www.entisetnuoret.fi
SUMMARY:EN Kansalaistalo 24.3.
DESCRIPTION:EN Kansalaistalo (Nekalassa Jokipohjantie 63) klo13-17.
URL:https://www.entisetnuoret.fi/tapahtuma/en-kansalaistalo-24-3/
LOCATION:TampereMission-talo\, Jokipohjantie 63\, Tampere
CATEGORIES:Tapahtumakalenteri
END:VEVENT
BEGIN:VEVENT
DTSTART;TZID=Europe/Helsinki:20260331T130000
DTEND;TZID=Europe/Helsinki:20260331T170000
DTSTAMP:20260420T115311
CREATED:20260318T074233Z
LAST-MODIFIED:20260318T074233Z
UID:12658-1774962000-1774976400@www.entisetnuoret.fi
SUMMARY:EN Kansalaistalo 31.3.
DESCRIPTION:EN Kansalaistalo (Nekalassa Jokipohjantie 63) klo13-17.
URL:https://www.entisetnuoret.fi/tapahtuma/en-kansalaistalo-31-3/
LOCATION:TampereMission-talo\, Jokipohjantie 63\, Tampere
CATEGORIES:Tapahtumakalenteri
END:VEVENT
BEGIN:VEVENT
DTSTART;TZID=Europe/Helsinki:20260401T180000
DTEND;TZID=Europe/Helsinki:20260401T180000
DTSTAMP:20260420T115311
CREATED:20260327T093018Z
LAST-MODIFIED:20260327T093018Z
UID:12721-1775066400-1775066400@www.entisetnuoret.fi
SUMMARY:EN - Andrei Rublev 1.4.
DESCRIPTION:Seuraavaksi katsotaan Andrei Rublev ke 1.4. klo 18.
URL:https://www.entisetnuoret.fi/tapahtuma/en-andrei-rublev-1-4/
LOCATION:Niagara\, Kehräsaari B\, 33200 Tampere\, Tampere\, Suomi
CATEGORIES:Tapahtumakalenteri
END:VEVENT
END:VCALENDAR